BEGIN:VCALENDAR
VERSION:2.0
PRODID:-//IFYC - Organisme de formation de la profession comptable en Auvergne - ECPv6.15.17.1//NONSGML v1.0//EN
CALSCALE:GREGORIAN
METHOD:PUBLISH
X-WR-CALNAME:IFYC - Organisme de formation de la profession comptable en Auvergne
X-ORIGINAL-URL:https://www.ifyc.fr
X-WR-CALDESC:Évènements pour IFYC - Organisme de formation de la profession comptable en Auvergne
REFRESH-INTERVAL;VALUE=DURATION:PT1H
X-Robots-Tag:noindex
X-PUBLISHED-TTL:PT1H
BEGIN:VTIMEZONE
TZID:Europe/Paris
BEGIN:DAYLIGHT
TZOFFSETFROM:+0100
TZOFFSETTO:+0200
TZNAME:CEST
DTSTART:20240331T010000
END:DAYLIGHT
BEGIN:STANDARD
TZOFFSETFROM:+0200
TZOFFSETTO:+0100
TZNAME:CET
DTSTART:20241027T010000
END:STANDARD
BEGIN:DAYLIGHT
TZOFFSETFROM:+0100
TZOFFSETTO:+0200
TZNAME:CEST
DTSTART:20250330T010000
END:DAYLIGHT
BEGIN:STANDARD
TZOFFSETFROM:+0200
TZOFFSETTO:+0100
TZNAME:CET
DTSTART:20251026T010000
END:STANDARD
BEGIN:DAYLIGHT
TZOFFSETFROM:+0100
TZOFFSETTO:+0200
TZNAME:CEST
DTSTART:20260329T010000
END:DAYLIGHT
BEGIN:STANDARD
TZOFFSETFROM:+0200
TZOFFSETTO:+0100
TZNAME:CET
DTSTART:20261025T010000
END:STANDARD
END:VTIMEZONE
BEGIN:VEVENT
DTSTART;TZID=Europe/Paris:20251201T090000
DTEND;TZID=Europe/Paris:20251201T110000
DTSTAMP:20260422T120352
CREATED:20251103T104629Z
LAST-MODIFIED:20251103T104629Z
UID:4238-1764579600-1764586800@www.ifyc.fr
SUMMARY:Les 10 grandes questions du risque judiciaire de l'expert comptable
DESCRIPTION:Description de la formation\n\nValeur ajoutée\nCette formation offre une vue d’ensemble de la RSE\, en mettant l’accent sur ses dimensions sociales\, sociétales et de gouvernance. Elle fournira les bases nécessaires pour intégrer ces concepts dans la stratégie et la gestion quotidienne des cabinets d’expertise comptable. \nBénéfices : \n\nRenforcer votre rôle de conseiller : Accompagnez vos clients dans la mise en place de la RSE en leur offrant des solutions concrètes et adaptées aux enjeux sociaux\, sociétaux et de gouvernance.\nDevenir un employeur responsable et attractif : Intégrez la RSE dans votre gestion interne pour répondre aux attentes croissantes des talents en matière de bien-être\, diversité et inclusion.\nOffrir un programme de formation complet : Disposez d’outils pratiques pour intégrer la RSE dans vos services et dans la gestion de votre entreprise\, tout en vous différenciant sur le marché.\n\n\n\n\nProgramme – Contenu\nLe contenu détaillé de cette formation sera communiqué prochainement.\nPédagogie\n\nPrésentation en diaporama\nEtudes de cas pratiques\nExercices interactifs\nPartage d’expérience\nSéances de questions/réponses\n\n\nObjectifs\n\nAppréhender les enjeux juridiques et éthiques de la relation entre l’expert-comptable et son client\, notamment en matière de responsabilité\, de délégation\, de signalement (TRACFIN)\, de droit de rétention\, et de gestion des situations à risque.\nSavoir adopter les bons réflexes face à des situations sensibles ou conflictuelles\, telles qu’une réquisitionjudiciaire\, une convocation par les autorités ou une situation litigieuse\, et connaître les critères qui peuvent justifier ou imposer une démission\n\nPublic\nExpert-comptable \nCollaborateur comptable \nPrérequis\nAucun prérequis n’est exigé pour cette formation
URL:https://www.ifyc.fr/formation-event/les-10-grandes-questions-du-risque-judiciaire-de-lexpert-comptable/
LOCATION:Virtuel
CATEGORIES:DÉONTHOLOGIE / DOCTRINE / NORMES
ATTACH;FMTTYPE=image/jpeg:https://www.ifyc.fr/wp-content/uploads/comptabilite-questions.jpg
ORGANIZER;CN="IFYC":MAILTO:contact@ifyc.fr
END:VEVENT
BEGIN:VEVENT
DTSTART;TZID=Europe/Paris:20251210T090000
DTEND;TZID=Europe/Paris:20251210T170000
DTSTAMP:20260422T120352
CREATED:20251103T102523Z
LAST-MODIFIED:20251103T102523Z
UID:4231-1765357200-1765386000@www.ifyc.fr
SUMMARY:Arrêter les comptes annuels de l'entreprise avec efficacité
DESCRIPTION:Contenu\nEtre efficace sans nuire à la qualité : \n\nComment être efficace et comment être organisé pour perdre le moins de temps possible\nApprendre à distinguer l’essentiel du détail\nTraiter les domaines à risques avec plus d’efficacité\nRevoir l’importance du suivi annuel de la saisie pour faciliter les travaux de clôture\n\nPédagogie\n\nPrésentation en diaporama\nÉtudes de cas pratiques\nExercices interactifs\nPartage d’expérience\nSéances de questions/réponses
URL:https://www.ifyc.fr/formation-event/arreter-les-comptes-annuels-de-lentreprise-avec-efficacite/
LOCATION:IFYC Clermont-Ferrand – Immeuble Le Sextant\, 222\, Boulevard Gustave Flaubert\, Clermont-Ferrand\, 63000\, France
CATEGORIES:COMPTABILITÉ / RÉVISION
ATTACH;FMTTYPE=image/jpeg:https://www.ifyc.fr/wp-content/uploads/Arreter-les-comptes-annuels-de-lentreprise-avec-efficacite.jpg
ORGANIZER;CN="IFYC":MAILTO:contact@ifyc.fr
END:VEVENT
END:VCALENDAR