BEGIN:VCALENDAR
VERSION:2.0
PRODID:-//IFYC - Organisme de formation de la profession comptable en Auvergne - ECPv6.15.17.1//NONSGML v1.0//EN
CALSCALE:GREGORIAN
METHOD:PUBLISH
X-WR-CALNAME:IFYC - Organisme de formation de la profession comptable en Auvergne
X-ORIGINAL-URL:https://www.ifyc.fr
X-WR-CALDESC:Évènements pour IFYC - Organisme de formation de la profession comptable en Auvergne
REFRESH-INTERVAL;VALUE=DURATION:PT1H
X-Robots-Tag:noindex
X-PUBLISHED-TTL:PT1H
BEGIN:VTIMEZONE
TZID:Europe/Paris
BEGIN:DAYLIGHT
TZOFFSETFROM:+0100
TZOFFSETTO:+0200
TZNAME:CEST
DTSTART:20250330T010000
END:DAYLIGHT
BEGIN:STANDARD
TZOFFSETFROM:+0200
TZOFFSETTO:+0100
TZNAME:CET
DTSTART:20251026T010000
END:STANDARD
BEGIN:DAYLIGHT
TZOFFSETFROM:+0100
TZOFFSETTO:+0200
TZNAME:CEST
DTSTART:20260329T010000
END:DAYLIGHT
BEGIN:STANDARD
TZOFFSETFROM:+0200
TZOFFSETTO:+0100
TZNAME:CET
DTSTART:20261025T010000
END:STANDARD
BEGIN:DAYLIGHT
TZOFFSETFROM:+0100
TZOFFSETTO:+0200
TZNAME:CEST
DTSTART:20270328T010000
END:DAYLIGHT
BEGIN:STANDARD
TZOFFSETFROM:+0200
TZOFFSETTO:+0100
TZNAME:CET
DTSTART:20271031T010000
END:STANDARD
END:VTIMEZONE
BEGIN:VEVENT
DTSTART;TZID=Europe/Paris:20260116T090000
DTEND;TZID=Europe/Paris:20260116T170000
DTSTAMP:20260424T190017
CREATED:20251217T102937Z
LAST-MODIFIED:20251217T102937Z
UID:4352-1768554000-1768582800@www.ifyc.fr
SUMMARY:Tout sur les SCM et les SISA ... ou presque
DESCRIPTION:Objectifs\n– Appréhender mieux les particularités juridiques et fiscales des SCM et des SISA\n– Pouvoir détecter les erreurs de traitement de ces dossiers par le passé\n– Conseiller au mieux le client dans la mise en place ou le suivi d’une SCM ou d’une SISA
URL:https://www.ifyc.fr/formation-event/tout-sur-les-scm-et-les-sisa-ou-presque/
LOCATION:IFYC Clermont-Ferrand – Immeuble Le Sextant\, 222\, Boulevard Gustave Flaubert\, Clermont-Ferrand\, 63000\, France
CATEGORIES:SECTEUR
END:VEVENT
BEGIN:VEVENT
DTSTART;TZID=Europe/Paris:20260120T080000
DTEND;TZID=Europe/Paris:20260120T170000
DTSTAMP:20260424T190017
CREATED:20251217T102819Z
LAST-MODIFIED:20251217T102819Z
UID:4350-1768896000-1768928400@www.ifyc.fr
SUMMARY:Spécificités comptables du bar\, tabac\, presse
DESCRIPTION:Ce séminaire est destiné aux collaborateurs comptables ou de gestion qui souhaitent maîtriser les subtilités de cette activité. \nElle est cruciale pour aborder les particularités du secteur\, souvent source de complexité et de questions. Elle sera axée sur la compréhension des flux spécifiques à chaque activité et leur impact comptable
URL:https://www.ifyc.fr/formation-event/specificites-comptables-du-bar-tabac-presse/
LOCATION:IFYC Clermont-Ferrand – Immeuble Le Sextant\, 222\, Boulevard Gustave Flaubert\, Clermont-Ferrand\, 63000\, France
CATEGORIES:SECTEUR
END:VEVENT
END:VCALENDAR