BEGIN:VCALENDAR
VERSION:2.0
PRODID:-//IFYC - Organisme de formation de la profession comptable en Auvergne - ECPv6.15.17.1//NONSGML v1.0//EN
CALSCALE:GREGORIAN
METHOD:PUBLISH
X-WR-CALNAME:IFYC - Organisme de formation de la profession comptable en Auvergne
X-ORIGINAL-URL:https://www.ifyc.fr
X-WR-CALDESC:Évènements pour IFYC - Organisme de formation de la profession comptable en Auvergne
REFRESH-INTERVAL;VALUE=DURATION:PT1H
X-Robots-Tag:noindex
X-PUBLISHED-TTL:PT1H
BEGIN:VTIMEZONE
TZID:Europe/Paris
BEGIN:DAYLIGHT
TZOFFSETFROM:+0100
TZOFFSETTO:+0200
TZNAME:CEST
DTSTART:20250330T010000
END:DAYLIGHT
BEGIN:STANDARD
TZOFFSETFROM:+0200
TZOFFSETTO:+0100
TZNAME:CET
DTSTART:20251026T010000
END:STANDARD
BEGIN:DAYLIGHT
TZOFFSETFROM:+0100
TZOFFSETTO:+0200
TZNAME:CEST
DTSTART:20260329T010000
END:DAYLIGHT
BEGIN:STANDARD
TZOFFSETFROM:+0200
TZOFFSETTO:+0100
TZNAME:CET
DTSTART:20261025T010000
END:STANDARD
BEGIN:DAYLIGHT
TZOFFSETFROM:+0100
TZOFFSETTO:+0200
TZNAME:CEST
DTSTART:20270328T010000
END:DAYLIGHT
BEGIN:STANDARD
TZOFFSETFROM:+0200
TZOFFSETTO:+0100
TZNAME:CET
DTSTART:20271031T010000
END:STANDARD
END:VTIMEZONE
BEGIN:VEVENT
DTSTART;TZID=Europe/Paris:20260122T090000
DTEND;TZID=Europe/Paris:20260122T170000
DTSTAMP:20260424T192430
CREATED:20251217T102700Z
LAST-MODIFIED:20251217T102700Z
UID:4348-1769072400-1769101200@www.ifyc.fr
SUMMARY:Leadership inclusif et diversité
DESCRIPTION:Ce groupe de formations se concentre sur la gestion de la diversité\, l’inclusion\, la lutte contre les discriminations et le leadership inclusif. Il s’agit de sensibiliser les dirigeants et managers à la richesse de la diversité culturelle\, générationnelle et professionnelle pour créer des environnements de travail plus inclusifs et égalitaires
URL:https://www.ifyc.fr/formation-event/leadership-inclusif-et-diversite/
LOCATION:IFYC Clermont-Ferrand – Immeuble Le Sextant\, 222\, Boulevard Gustave Flaubert\, Clermont-Ferrand\, 63000\, France
CATEGORIES:GESTION DU CABINET / MANAGEMENT
END:VEVENT
END:VCALENDAR