BEGIN:VCALENDAR
VERSION:2.0
PRODID:-//IFYC - Organisme de formation de la profession comptable en Auvergne - ECPv6.15.17.1//NONSGML v1.0//EN
CALSCALE:GREGORIAN
METHOD:PUBLISH
X-WR-CALNAME:IFYC - Organisme de formation de la profession comptable en Auvergne
X-ORIGINAL-URL:https://www.ifyc.fr
X-WR-CALDESC:Évènements pour IFYC - Organisme de formation de la profession comptable en Auvergne
REFRESH-INTERVAL;VALUE=DURATION:PT1H
X-Robots-Tag:noindex
X-PUBLISHED-TTL:PT1H
BEGIN:VTIMEZONE
TZID:Europe/Paris
BEGIN:DAYLIGHT
TZOFFSETFROM:+0100
TZOFFSETTO:+0200
TZNAME:CEST
DTSTART:20250330T010000
END:DAYLIGHT
BEGIN:STANDARD
TZOFFSETFROM:+0200
TZOFFSETTO:+0100
TZNAME:CET
DTSTART:20251026T010000
END:STANDARD
BEGIN:DAYLIGHT
TZOFFSETFROM:+0100
TZOFFSETTO:+0200
TZNAME:CEST
DTSTART:20260329T010000
END:DAYLIGHT
BEGIN:STANDARD
TZOFFSETFROM:+0200
TZOFFSETTO:+0100
TZNAME:CET
DTSTART:20261025T010000
END:STANDARD
BEGIN:DAYLIGHT
TZOFFSETFROM:+0100
TZOFFSETTO:+0200
TZNAME:CEST
DTSTART:20270328T010000
END:DAYLIGHT
BEGIN:STANDARD
TZOFFSETFROM:+0200
TZOFFSETTO:+0100
TZNAME:CET
DTSTART:20271031T010000
END:STANDARD
END:VTIMEZONE
BEGIN:VEVENT
DTSTART;TZID=Europe/Paris:20260212T090000
DTEND;TZID=Europe/Paris:20260212T170000
DTSTAMP:20260419T182246
CREATED:20251217T100056Z
LAST-MODIFIED:20251217T100056Z
UID:4328-1770886800-1770915600@www.ifyc.fr
SUMMARY:Actualisation en droit des sociétés
DESCRIPTION:Objectifs\nCette formation permet de faire le point sur l’actualité juridique et de mesurer l’impact des nouveautés sur la pratique professionnelle \n\nActualiser ses connaissances en droit des sociétés sur le plan législatif\, réglementaire et jurisprudentiel et connaître la doctrine récente.\nAnalyser les nouveautés notamment au cours des 18 derniers mois.\nMesurer les incidences pratiques des nouveaux textes et si nécessaire leurs conséquences sur l’environnement juridique des sociétés.
URL:https://www.ifyc.fr/formation-event/actualisation-en-droit-des-societes-2/
LOCATION:Virtuel
CATEGORIES:JURIDIQUE
END:VEVENT
END:VCALENDAR