BEGIN:VCALENDAR
VERSION:2.0
PRODID:-//IFYC - Organisme de formation de la profession comptable en Auvergne - ECPv6.15.17.1//NONSGML v1.0//EN
CALSCALE:GREGORIAN
METHOD:PUBLISH
X-ORIGINAL-URL:https://www.ifyc.fr
X-WR-CALDESC:Évènements pour IFYC - Organisme de formation de la profession comptable en Auvergne
REFRESH-INTERVAL;VALUE=DURATION:PT1H
X-Robots-Tag:noindex
X-PUBLISHED-TTL:PT1H
BEGIN:VTIMEZONE
TZID:Europe/Paris
BEGIN:DAYLIGHT
TZOFFSETFROM:+0100
TZOFFSETTO:+0200
TZNAME:CEST
DTSTART:20250330T010000
END:DAYLIGHT
BEGIN:STANDARD
TZOFFSETFROM:+0200
TZOFFSETTO:+0100
TZNAME:CET
DTSTART:20251026T010000
END:STANDARD
BEGIN:DAYLIGHT
TZOFFSETFROM:+0100
TZOFFSETTO:+0200
TZNAME:CEST
DTSTART:20260329T010000
END:DAYLIGHT
BEGIN:STANDARD
TZOFFSETFROM:+0200
TZOFFSETTO:+0100
TZNAME:CET
DTSTART:20261025T010000
END:STANDARD
BEGIN:DAYLIGHT
TZOFFSETFROM:+0100
TZOFFSETTO:+0200
TZNAME:CEST
DTSTART:20270328T010000
END:DAYLIGHT
BEGIN:STANDARD
TZOFFSETFROM:+0200
TZOFFSETTO:+0100
TZNAME:CET
DTSTART:20271031T010000
END:STANDARD
END:VTIMEZONE
BEGIN:VEVENT
DTSTART;TZID=Europe/Paris:20260120T090000
DTEND;TZID=Europe/Paris:20260121T170000
DTSTAMP:20260424T163450
CREATED:20251217T095326Z
LAST-MODIFIED:20251217T095326Z
UID:4318-1768899600-1769014800@www.ifyc.fr
SUMMARY:Découverte de la datavisualisation à travers Power BI et plus spécifiquement de B.I.Audit\, l'outil de la CNCC
DESCRIPTION:En participant à cette formation de deux jours axée principalement sur des études de cas et d’exercices pratiques\, vous transformerez votre approche de l’audit et de l’analyse financière. Vous développerez votre expertise dans l’utilisation de Power BI\, un outil indispensable dans le paysage actuel de l’audit numérique. Vous acquerrez une meilleure maîtrise de Power Query et du langage DAX\, vous permettant d’adapter et de personnaliser B.I.Audit selon vos besoins spécifiques\, optimisant ainsi la pertinence et l’efficacité de vos analyses. \nEn maîtrisant B.I.Audit\, vous serez en mesure de générer rapidement des rapports détaillés\, d’identifier les cycles d’audit pertinents\, et de naviguer efficacement à travers les données\, améliorant votre capacité à détecter des anomalies et tendances clés.
URL:https://www.ifyc.fr/formation-event/decouverte-de-la-datavisualisation-a-travers-power-bi-et-plus-specifiquement-de-b-i-audit-loutil-de-la-cncc/
LOCATION:IFYC Clermont-Ferrand – Immeuble Le Sextant\, 222\, Boulevard Gustave Flaubert\, Clermont-Ferrand\, 63000\, France
CATEGORIES:AUDIT
END:VEVENT
END:VCALENDAR