BEGIN:VCALENDAR
VERSION:2.0
PRODID:-//IFYC - Organisme de formation de la profession comptable en Auvergne - ECPv6.15.17.1//NONSGML v1.0//EN
CALSCALE:GREGORIAN
METHOD:PUBLISH
X-WR-CALNAME:IFYC - Organisme de formation de la profession comptable en Auvergne
X-ORIGINAL-URL:https://www.ifyc.fr
X-WR-CALDESC:Évènements pour IFYC - Organisme de formation de la profession comptable en Auvergne
REFRESH-INTERVAL;VALUE=DURATION:PT1H
X-Robots-Tag:noindex
X-PUBLISHED-TTL:PT1H
BEGIN:VTIMEZONE
TZID:Europe/Paris
BEGIN:DAYLIGHT
TZOFFSETFROM:+0100
TZOFFSETTO:+0200
TZNAME:CEST
DTSTART:20250330T010000
END:DAYLIGHT
BEGIN:STANDARD
TZOFFSETFROM:+0200
TZOFFSETTO:+0100
TZNAME:CET
DTSTART:20251026T010000
END:STANDARD
BEGIN:DAYLIGHT
TZOFFSETFROM:+0100
TZOFFSETTO:+0200
TZNAME:CEST
DTSTART:20260329T010000
END:DAYLIGHT
BEGIN:STANDARD
TZOFFSETFROM:+0200
TZOFFSETTO:+0100
TZNAME:CET
DTSTART:20261025T010000
END:STANDARD
BEGIN:DAYLIGHT
TZOFFSETFROM:+0100
TZOFFSETTO:+0200
TZNAME:CEST
DTSTART:20270328T010000
END:DAYLIGHT
BEGIN:STANDARD
TZOFFSETFROM:+0200
TZOFFSETTO:+0100
TZNAME:CET
DTSTART:20271031T010000
END:STANDARD
END:VTIMEZONE
BEGIN:VEVENT
DTSTART;TZID=Europe/Paris:20260205T080000
DTEND;TZID=Europe/Paris:20260205T170000
DTSTAMP:20260422T103828
CREATED:20251217T095428Z
LAST-MODIFIED:20251217T095428Z
UID:4320-1770278400-1770310800@www.ifyc.fr
SUMMARY:Actualité sociale
DESCRIPTION:Objectifs\n\nMaîtriser les nouvelles règles à connaître dans le cadre de la mission sociale du cabinet pour mener des actions de sensibilisation auprès des clients.\nActualiser ses connaissances pour permettre l’identification des risques encourus par l’entreprise\, ainsi que l’analyse critique de leurs conséquences.
URL:https://www.ifyc.fr/formation-event/actualite-sociale/
LOCATION:Aurillac\, 15000\, France
CATEGORIES:DROIT SOCIAL ET PAIE
END:VEVENT
BEGIN:VEVENT
DTSTART;TZID=Europe/Paris:20260205T090000
DTEND;TZID=Europe/Paris:20260205T170000
DTSTAMP:20260422T103828
CREATED:20251217T095217Z
LAST-MODIFIED:20251217T095223Z
UID:4316-1770282000-1770310800@www.ifyc.fr
SUMMARY:Audit des comptes consolidés : les enjeux de la NEP 600
DESCRIPTION:Maîtriser le risque d’audit et les problématiques liées à la certification des comptes consolidés\nSavoir planifier et mettre en œuvre l’audit des comptes consolidés\nMaîtriser les processus de communication avec les auditeurs des entités et les obligations de documentation\nConnaître les obligations de communication avec la direction de l’entité consolidante et les organes mentionnés à l’article L 823-16 du Code de Commerce
URL:https://www.ifyc.fr/formation-event/audit-des-comptes-consolides-les-enjeux-de-la-nep-600/
LOCATION:IFYC Clermont-Ferrand – Immeuble Le Sextant\, 222\, Boulevard Gustave Flaubert\, Clermont-Ferrand\, 63000\, France
CATEGORIES:AUDIT
ORGANIZER;CN="IFYC":MAILTO:contact@ifyc.fr
END:VEVENT
END:VCALENDAR