BEGIN:VCALENDAR
VERSION:2.0
PRODID:-//IFYC - Organisme de formation de la profession comptable en Auvergne - ECPv6.15.17.1//NONSGML v1.0//EN
CALSCALE:GREGORIAN
METHOD:PUBLISH
X-WR-CALNAME:IFYC - Organisme de formation de la profession comptable en Auvergne
X-ORIGINAL-URL:https://www.ifyc.fr
X-WR-CALDESC:Évènements pour IFYC - Organisme de formation de la profession comptable en Auvergne
REFRESH-INTERVAL;VALUE=DURATION:PT1H
X-Robots-Tag:noindex
X-PUBLISHED-TTL:PT1H
BEGIN:VTIMEZONE
TZID:Europe/Paris
BEGIN:DAYLIGHT
TZOFFSETFROM:+0100
TZOFFSETTO:+0200
TZNAME:CEST
DTSTART:20250330T010000
END:DAYLIGHT
BEGIN:STANDARD
TZOFFSETFROM:+0200
TZOFFSETTO:+0100
TZNAME:CET
DTSTART:20251026T010000
END:STANDARD
BEGIN:DAYLIGHT
TZOFFSETFROM:+0100
TZOFFSETTO:+0200
TZNAME:CEST
DTSTART:20260329T010000
END:DAYLIGHT
BEGIN:STANDARD
TZOFFSETFROM:+0200
TZOFFSETTO:+0100
TZNAME:CET
DTSTART:20261025T010000
END:STANDARD
BEGIN:DAYLIGHT
TZOFFSETFROM:+0100
TZOFFSETTO:+0200
TZNAME:CEST
DTSTART:20270328T010000
END:DAYLIGHT
BEGIN:STANDARD
TZOFFSETFROM:+0200
TZOFFSETTO:+0100
TZNAME:CET
DTSTART:20271031T010000
END:STANDARD
END:VTIMEZONE
BEGIN:VEVENT
DTSTART;TZID=Europe/Paris:20260119T090000
DTEND;TZID=Europe/Paris:20260203T170000
DTSTAMP:20260422T120216
CREATED:20251217T103108Z
LAST-MODIFIED:20260205T101357Z
UID:4354-1768813200-1770138000@www.ifyc.fr
SUMMARY:Comment traiter un dossier BNC dans son intégralité
DESCRIPTION:Objectifs\n\nConnaître toutes les particularités comptables et fiscales des BNC et les spécificités de certains secteurs.\nSavoir utiliser les dossiers de travail BNC transmis par l’Ordre des experts-comptables.\nOrganiser la mission en utilisant des outils informatiques.\nMaîtriser le déroulement de la mission et apprécier l’importance des missions de conseil en gestion.\n\nA l’issue de la formation\, le participant sera capable de remplir la 2035 et ses annexes
URL:https://www.ifyc.fr/formation-event/comment-traiter-un-dossier-bnc-dans-son-integralite/
LOCATION:IFYC Clermont-Ferrand – Immeuble Le Sextant\, 222\, Boulevard Gustave Flaubert\, Clermont-Ferrand\, 63000\, France
CATEGORIES:COMPTABILITÉ / RÉVISION
END:VEVENT
BEGIN:VEVENT
DTSTART;TZID=Europe/Paris:20260123T090000
DTEND;TZID=Europe/Paris:20260123T170000
DTSTAMP:20260422T120216
CREATED:20251217T102543Z
LAST-MODIFIED:20251217T102543Z
UID:4346-1769158800-1769187600@www.ifyc.fr
SUMMARY:Dossier association : aspects fiscal\, juridique et comptable : points de vigilance
DESCRIPTION:Objectifs\n\nApprendre à bien gérer le dossier comptable d’une association (Identifier les points de vigilance) pour être en mesure de proposer une mission adaptée en alertant son client sur les points clés du secteur associatif et les points de vigilance (notamment les risques de mise en cause des responsabilités civiles et pénales du président et des mandataires sociaux).\nFaire le parallèle avec d’autres structures.
URL:https://www.ifyc.fr/formation-event/dossier-association-aspects-fiscal-juridique-et-comptable-points-de-vigilance/
LOCATION:IFYC Clermont-Ferrand – Immeuble Le Sextant\, 222\, Boulevard Gustave Flaubert\, Clermont-Ferrand\, 63000\, France
CATEGORIES:ÉCONOMIE SOCIALE ET SOLIDAIRE
END:VEVENT
END:VCALENDAR