BEGIN:VCALENDAR
VERSION:2.0
PRODID:-//IFYC - Organisme de formation de la profession comptable en Auvergne - ECPv6.15.17.1//NONSGML v1.0//EN
CALSCALE:GREGORIAN
METHOD:PUBLISH
X-WR-CALNAME:IFYC - Organisme de formation de la profession comptable en Auvergne
X-ORIGINAL-URL:https://www.ifyc.fr
X-WR-CALDESC:Évènements pour IFYC - Organisme de formation de la profession comptable en Auvergne
REFRESH-INTERVAL;VALUE=DURATION:PT1H
X-Robots-Tag:noindex
X-PUBLISHED-TTL:PT1H
BEGIN:VTIMEZONE
TZID:Europe/Paris
BEGIN:DAYLIGHT
TZOFFSETFROM:+0100
TZOFFSETTO:+0200
TZNAME:CEST
DTSTART:20250330T010000
END:DAYLIGHT
BEGIN:STANDARD
TZOFFSETFROM:+0200
TZOFFSETTO:+0100
TZNAME:CET
DTSTART:20251026T010000
END:STANDARD
BEGIN:DAYLIGHT
TZOFFSETFROM:+0100
TZOFFSETTO:+0200
TZNAME:CEST
DTSTART:20260329T010000
END:DAYLIGHT
BEGIN:STANDARD
TZOFFSETFROM:+0200
TZOFFSETTO:+0100
TZNAME:CET
DTSTART:20261025T010000
END:STANDARD
BEGIN:DAYLIGHT
TZOFFSETFROM:+0100
TZOFFSETTO:+0200
TZNAME:CEST
DTSTART:20270328T010000
END:DAYLIGHT
BEGIN:STANDARD
TZOFFSETFROM:+0200
TZOFFSETTO:+0100
TZNAME:CET
DTSTART:20271031T010000
END:STANDARD
END:VTIMEZONE
BEGIN:VEVENT
DTSTART;TZID=Europe/Paris:20260115T080000
DTEND;TZID=Europe/Paris:20260115T170000
DTSTAMP:20260422T120241
CREATED:20251217T091828Z
LAST-MODIFIED:20251217T091828Z
UID:4289-1768464000-1768496400@www.ifyc.fr
SUMMARY:Tout sur les BNC... ou presque - Niveau1
DESCRIPTION:Le séminaire TOUT SUR LES BNC OU PRESQUE doit permettre de faire le tour des principales spécificités juridiques\, fiscales\, comptables et sociales des travailleurs indépendants titulaires de Bénéfices Non Commerciaux. \nObjectifs\nA l’issue de la formation\, l’apprenant devra être capable de : \n\nAppréhender les spécificités de chaque client BNC\nAvoir une bonne connaissance des questions à poser au client BNC\nTenir correctement une comptabilité BNC\nBien traiter les aspects fiscaux et sociaux des BNC
URL:https://www.ifyc.fr/formation-event/tout-sur-les-bnc-ou-presque-niveau1/
LOCATION:IFYC Clermont-Ferrand – Immeuble Le Sextant\, 222\, Boulevard Gustave Flaubert\, Clermont-Ferrand\, 63000\, France
CATEGORIES:COMPTABILITÉ / RÉVISION
END:VEVENT
BEGIN:VEVENT
DTSTART;TZID=Europe/Paris:20260115T090000
DTEND;TZID=Europe/Paris:20260115T123000
DTSTAMP:20260422T120241
CREATED:20251217T102110Z
LAST-MODIFIED:20251217T102110Z
UID:4340-1768467600-1768480200@www.ifyc.fr
SUMMARY:Expert-comptable (dirigeant) : Comment protéger ma famille et mon cabinet (entreprise) de décès ?
DESCRIPTION:Savoir mesurer les conséquences des aléas de la vie\, d’une invalidité ou d’un divorce\, tant sur le cabinet (entreprise) que sur la famille du dirigeant. \nQuestions fondamentales qui nécessitent une réflexion préalable pour assurer la survie du cabinet et la protection de sa famille.
URL:https://www.ifyc.fr/formation-event/expert-comptable-dirigeant-comment-proteger-ma-famille-et-mon-cabinet-entreprise-de-deces/
LOCATION:Virtuel
CATEGORIES:GESTION PATRIMOINE
END:VEVENT
BEGIN:VEVENT
DTSTART;TZID=Europe/Paris:20260115T090000
DTEND;TZID=Europe/Paris:20260115T170000
DTSTAMP:20260422T120241
CREATED:20251217T100745Z
LAST-MODIFIED:20251217T100745Z
UID:4332-1768467600-1768496400@www.ifyc.fr
SUMMARY:SAS\, SARL : Comment faire le bon choix ?
DESCRIPTION:Le choix entre la SAS et la SARL a des impacts tant sur le plan fiscal\, social\, juridique et sur le statut du dirigeant.\nCe choix est donc important en fonction des objectifs et du contexte familial du dirigeant
URL:https://www.ifyc.fr/formation-event/sas-sarl-comment-faire-le-bon-choix/
LOCATION:Virtuel
CATEGORIES:JURIDIQUE
END:VEVENT
END:VCALENDAR