BEGIN:VCALENDAR
VERSION:2.0
PRODID:-//IFYC - Organisme de formation de la profession comptable en Auvergne - ECPv6.15.17.1//NONSGML v1.0//EN
CALSCALE:GREGORIAN
METHOD:PUBLISH
X-ORIGINAL-URL:https://www.ifyc.fr
X-WR-CALDESC:Évènements pour IFYC - Organisme de formation de la profession comptable en Auvergne
REFRESH-INTERVAL;VALUE=DURATION:PT1H
X-Robots-Tag:noindex
X-PUBLISHED-TTL:PT1H
BEGIN:VTIMEZONE
TZID:Europe/Paris
BEGIN:DAYLIGHT
TZOFFSETFROM:+0100
TZOFFSETTO:+0200
TZNAME:CEST
DTSTART:20240331T010000
END:DAYLIGHT
BEGIN:STANDARD
TZOFFSETFROM:+0200
TZOFFSETTO:+0100
TZNAME:CET
DTSTART:20241027T010000
END:STANDARD
BEGIN:DAYLIGHT
TZOFFSETFROM:+0100
TZOFFSETTO:+0200
TZNAME:CEST
DTSTART:20250330T010000
END:DAYLIGHT
BEGIN:STANDARD
TZOFFSETFROM:+0200
TZOFFSETTO:+0100
TZNAME:CET
DTSTART:20251026T010000
END:STANDARD
BEGIN:DAYLIGHT
TZOFFSETFROM:+0100
TZOFFSETTO:+0200
TZNAME:CEST
DTSTART:20260329T010000
END:DAYLIGHT
BEGIN:STANDARD
TZOFFSETFROM:+0200
TZOFFSETTO:+0100
TZNAME:CET
DTSTART:20261025T010000
END:STANDARD
END:VTIMEZONE
BEGIN:VEVENT
DTSTART;TZID=Europe/Paris:20251121T090000
DTEND;TZID=Europe/Paris:20251121T170000
DTSTAMP:20260422T144955
CREATED:20251103T100336Z
LAST-MODIFIED:20251103T100336Z
UID:4220-1763715600-1763744400@www.ifyc.fr
SUMMARY:Actuel 2025 (Le Puy-en Velay)
DESCRIPTION:Identifier les insuffisances éventuelles de certains de leurs dossiers et de prendre les mesures correctrices nécessaires dans le respect des normes professionnelles\nSécuriser l’exercice des missions grâce à la maîtrise des normes d’exercice professionnel et de la doctrine professionnelle\nOrganiser les missions avec une meilleure efficacité\nDes exemples concrets et des mises en situations facilitent les échanges entre les participants et les formateurs sur la conduite des missionsCOMMISSAIRE AUX COMPTES\, COLLABORATEUR CAC CONFIRMÉ
URL:https://www.ifyc.fr/formation-event/actuel-2025-le-puy-en-velay/
LOCATION:Le Puy-en-Velay\, Le-Puy-en-Velay\, 43000\, France
CATEGORIES:AUDIT
ATTACH;FMTTYPE=image/jpeg:https://www.ifyc.fr/wp-content/uploads/comptabilite-ambiance.jpg
ORGANIZER;CN="IFYC":MAILTO:contact@ifyc.fr
END:VEVENT
END:VCALENDAR