BEGIN:VCALENDAR
VERSION:2.0
PRODID:-//IFYC - Organisme de formation de la profession comptable en Auvergne - ECPv6.15.17.1//NONSGML v1.0//EN
CALSCALE:GREGORIAN
METHOD:PUBLISH
X-ORIGINAL-URL:https://www.ifyc.fr
X-WR-CALDESC:Évènements pour IFYC - Organisme de formation de la profession comptable en Auvergne
REFRESH-INTERVAL;VALUE=DURATION:PT1H
X-Robots-Tag:noindex
X-PUBLISHED-TTL:PT1H
BEGIN:VTIMEZONE
TZID:Europe/Paris
BEGIN:DAYLIGHT
TZOFFSETFROM:+0100
TZOFFSETTO:+0200
TZNAME:CEST
DTSTART:20240331T010000
END:DAYLIGHT
BEGIN:STANDARD
TZOFFSETFROM:+0200
TZOFFSETTO:+0100
TZNAME:CET
DTSTART:20241027T010000
END:STANDARD
BEGIN:DAYLIGHT
TZOFFSETFROM:+0100
TZOFFSETTO:+0200
TZNAME:CEST
DTSTART:20250330T010000
END:DAYLIGHT
BEGIN:STANDARD
TZOFFSETFROM:+0200
TZOFFSETTO:+0100
TZNAME:CET
DTSTART:20251026T010000
END:STANDARD
BEGIN:DAYLIGHT
TZOFFSETFROM:+0100
TZOFFSETTO:+0200
TZNAME:CEST
DTSTART:20260329T010000
END:DAYLIGHT
BEGIN:STANDARD
TZOFFSETFROM:+0200
TZOFFSETTO:+0100
TZNAME:CET
DTSTART:20261025T010000
END:STANDARD
END:VTIMEZONE
BEGIN:VEVENT
DTSTART;TZID=Europe/Paris:20251015T090000
DTEND;TZID=Europe/Paris:20251015T170000
DTSTAMP:20260422T162311
CREATED:20250712T185000Z
LAST-MODIFIED:20250723T114742Z
UID:3460-1760518800-1760547600@www.ifyc.fr
SUMMARY:Tout sur les BNC... ou presque
DESCRIPTION:Appréhender les spécificités de chaque client BNC\nAvoir une bonne connaissance des questions à poser au client BNC\nTenir correctement une comptabilité BNC\nBien traiter les aspects fiscaux et sociaux des BNCEXPERT-COMPTABLE\, COLLABORATEUR DÉBUTANT ET CONFIRMÉ
URL:https://www.ifyc.fr/formation-event/tout-sur-les-bnc-ou-presque/
LOCATION:IFYC Clermont-Ferrand – Immeuble Le Sextant\, 222\, Boulevard Gustave Flaubert\, Clermont-Ferrand\, 63000\, France
CATEGORIES:COMPTABILITÉ / RÉVISION
ATTACH;FMTTYPE=image/jpeg:https://www.ifyc.fr/wp-content/uploads/benefice-non-commerciaux.jpg
ORGANIZER;CN="IFYC":MAILTO:contact@ifyc.fr
END:VEVENT
END:VCALENDAR